{
 "currentVersion": 11.3,
 "cimVersion": "3.3.0",
 "serviceDescription": "Licensed Child Care Facilities in Midwest City as of July 2017",
 "mapName": "Layers",
 "description": "",
 "copyrightText": "",
 "supportsDynamicLayers": false,
 "layers": [],
 "tables": [],
 "spatialReference": {
  "wkid": 4269,
  "latestWkid": 4269,
  "xyTolerance": 8.983152841195212E-9,
  "zTolerance": 0.001,
  "mTolerance": 0.001,
  "falseX": -400,
  "falseY": -400,
  "xyUnits": 1.125899906842624E13,
  "falseZ": -100000,
  "zUnits": 10000,
  "falseM": -100000,
  "mUnits": 10000
 },
 "singleFusedMapCache": true,
 "tileInfo": {
  "rows": 256,
  "cols": 256,
  "dpi": 96,
  "format": "PNG",
  "compressionQuality": 0,
  "origin": {
   "x": -400,
   "y": 400
  },
  "spatialReference": {
   "wkid": 4269,
   "latestWkid": 4269,
   "xyTolerance": 8.983152841195212E-9,
   "zTolerance": 0.001,
   "mTolerance": 0.001,
   "falseX": -400,
   "falseY": -400,
   "xyUnits": 1.125899906842624E13,
   "falseZ": -100000,
   "zUnits": 10000,
   "falseM": -100000,
   "mUnits": 10000
  },
  "lods": [
   {
    "level": 0,
    "resolution": 1.5228550437313792E-4,
    "scale": 64000
   },
   {
    "level": 1,
    "resolution": 7.614275218656896E-5,
    "scale": 32000
   },
   {
    "level": 2,
    "resolution": 3.807137609328448E-5,
    "scale": 16000
   },
   {
    "level": 3,
    "resolution": 1.903568804664224E-5,
    "scale": 8000
   },
   {
    "level": 4,
    "resolution": 9.51784402332112E-6,
    "scale": 4000
   },
   {
    "level": 5,
    "resolution": 4.75892201166056E-6,
    "scale": 2000
   },
   {
    "level": 6,
    "resolution": 2.37946100583028E-6,
    "scale": 1000
   },
   {
    "level": 7,
    "resolution": 1.18973050291514E-6,
    "scale": 500
   }
  ]
 },
 "storageInfo": {
  "storageFormat": "esriMapCacheStorageModeCompactV2",
  "packetSize": 128
 },
 "initialExtent": {
  "xmin": -97.40648139672045,
  "ymin": 35.45224512233743,
  "xmax": -97.35445966894984,
  "ymax": 35.474673357800796,
  "spatialReference": {
   "cs": "gcs",
   "wkid": 4269
  }
 },
 "fullExtent": {
  "xmin": "NaN",
  "ymin": "NaN",
  "xmax": "NaN",
  "ymax": "NaN",
  "spatialReference": {
   "cs": "gcs",
   "wkid": 4269
  }
 },
 "datesInUnknownTimezone": false,
 "minScale": 16000,
 "maxScale": 500,
 "units": "esriDecimalDegrees",
 "supportedImageFormatTypes": "PNG32,PNG24,PNG,JPG,DIB,TIFF,EMF,PS,PDF,GIF,SVG,SVGZ,BMP",
 "documentInfo": {
  "Title": "Licensed Child Care Facilities",
  "Author": "KHSpivey",
  "Comments": "Licensed Child Care Facilities in Midwest City as of July 2017",
  "Subject": "Licensed Child Care Facilities in Midwest City",
  "Category": "",
  "Version": "10.1",
  "AntialiasingMode": "None",
  "TextAntialiasingMode": "Force",
  "Keywords": ""
 },
 "supportsQueryDomains": true,
 "capabilities": "Map,Query,Data",
 "supportedQueryFormats": "JSON, geoJSON, PBF",
 "exportTilesAllowed": false,
 "referenceScale": 0.0,
 "datumTransformations": [
  {
   "geoTransforms": [
    {
     "wkid": 108001,
     "latestWkid": 1241,
     "transformForward": true,
     "name": "NAD_1927_To_NAD_1983_NADCON"
    }
   ]
  },
  {
   "geoTransforms": [
    {
     "wkid": 108001,
     "latestWkid": 1241,
     "transformForward": false,
     "name": "NAD_1927_To_NAD_1983_NADCON"
    }
   ]
  }
 ],
 "supportsDatumTransformation": true,
 "archivingInfo": {
  "supportsHistoricMoment": false
 },
 "supportsClipping": true,
 "supportsSpatialFilter": true,
 "supportsTimeRelation": true,
 "supportsQueryDataElements": true,
 "mapUnits": {
  "uwkid": 9102
 },
 "maxRecordCount": 1000,
 "maxImageHeight": 4096,
 "maxImageWidth": 4096,
 "supportedExtensions": "",
 "resampling": false,
 "serviceItemId": "508cffaacdf345eeace04d73bcbd711e"
}
